BEGIN:VCALENDAR
VERSION:2.0
PRODID:-//T Vonetta Enterprises LLC - ECPv6.15.20//NONSGML v1.0//EN
CALSCALE:GREGORIAN
METHOD:PUBLISH
X-WR-CALNAME:T Vonetta Enterprises LLC
X-ORIGINAL-URL:https://tvonetta.org
X-WR-CALDESC:Events for T Vonetta Enterprises LLC
REFRESH-INTERVAL;VALUE=DURATION:PT1H
X-Robots-Tag:noindex
X-PUBLISHED-TTL:PT1H
BEGIN:VTIMEZONE
TZID:America/Chicago
BEGIN:DAYLIGHT
TZOFFSETFROM:-0600
TZOFFSETTO:-0500
TZNAME:CDT
DTSTART:20240310T080000
END:DAYLIGHT
BEGIN:STANDARD
TZOFFSETFROM:-0500
TZOFFSETTO:-0600
TZNAME:CST
DTSTART:20241103T070000
END:STANDARD
BEGIN:DAYLIGHT
TZOFFSETFROM:-0600
TZOFFSETTO:-0500
TZNAME:CDT
DTSTART:20250309T080000
END:DAYLIGHT
BEGIN:STANDARD
TZOFFSETFROM:-0500
TZOFFSETTO:-0600
TZNAME:CST
DTSTART:20251102T070000
END:STANDARD
BEGIN:DAYLIGHT
TZOFFSETFROM:-0600
TZOFFSETTO:-0500
TZNAME:CDT
DTSTART:20260308T080000
END:DAYLIGHT
BEGIN:STANDARD
TZOFFSETFROM:-0500
TZOFFSETTO:-0600
TZNAME:CST
DTSTART:20261101T070000
END:STANDARD
END:VTIMEZONE
BEGIN:VEVENT
DTSTART;TZID=America/Chicago:20251107T100000
DTEND;TZID=America/Chicago:20251107T160000
DTSTAMP:20260419T092236
CREATED:20250918T165412Z
LAST-MODIFIED:20251028T215936Z
UID:1898-1762509600-1762531200@tvonetta.org
SUMMARY:Ignite Transformation Entrepreneurial Summit
DESCRIPTION:CONNECT\, LEARN\, AND\nCOLLABORATE WITH INDUSTRY\nLEADERS TODAY \nThe Ignite Transformation Summit\nEmpowers entrepreneurs\, Fostering sustainable\nbusiness practices & Community impact. \nKey Topics & Discussions:\nGrowth Strategies\nAccess to Capital\nInnovation Trends\nCommunity Engagement\nNetworking Opportunities\nExpert Panels\nResources Exploration\nSponsorship Opportunities\nNonprofit Partnerships \n🎟 Ticket Pricing \nVIP Experience: $250 (Early Bird $199 until 10/31/25)\nGeneral Admission: $125 (Early Bird $99 until 10/31/25)
URL:https://tvonetta.org/event/to-be-determined/
LOCATION:The Nature & Retreat Center\, 5901 Los Rios Blvd\,\, Plano\, TX\, 75074\, United States
ATTACH;FMTTYPE=image/jpeg:https://tvonetta.org/wp-content/uploads/2025/09/ITE-Logo-Black-with-diamonds-092225.jpg
ORGANIZER;CN="TVonetta Enterprise":MAILTO:info@tvonetta.org
END:VEVENT
END:VCALENDAR